BEGIN:VCALENDAR
VERSION:2.0
PRODID:-//Interessengemeinschaft Kultur für Berga/Elster - ECPv6.11.2//NONSGML v1.0//EN
CALSCALE:GREGORIAN
METHOD:PUBLISH
X-WR-CALNAME:Interessengemeinschaft Kultur für Berga/Elster
X-ORIGINAL-URL:https://igkultur-berga.de
X-WR-CALDESC:Veranstaltungen für Interessengemeinschaft Kultur für Berga/Elster
REFRESH-INTERVAL;VALUE=DURATION:PT1H
X-Robots-Tag:noindex
X-PUBLISHED-TTL:PT1H
BEGIN:VTIMEZONE
TZID:Europe/Berlin
BEGIN:DAYLIGHT
TZOFFSETFROM:+0100
TZOFFSETTO:+0200
TZNAME:CEST
DTSTART:20210328T010000
END:DAYLIGHT
BEGIN:STANDARD
TZOFFSETFROM:+0200
TZOFFSETTO:+0100
TZNAME:CET
DTSTART:20211031T010000
END:STANDARD
END:VTIMEZONE
BEGIN:VEVENT
DTSTART;TZID=Europe/Berlin:20210703T103000
DTEND;TZID=Europe/Berlin:20210703T120000
DTSTAMP:20260426T040434
CREATED:20200216T154607Z
LAST-MODIFIED:20210412T071909Z
UID:370-1625308200-1625313600@igkultur-berga.de
SUMMARY:Jugendweihe Klasse 8a
DESCRIPTION:teilen teilen 
URL:https://igkultur-berga.de/veranstaltung/jugendweihe-klasse-7a/
LOCATION:Klubhaus Berga\, Brauhausstrraße 15\, Berga-Wünschendorf\, 07980
ATTACH;FMTTYPE=image/png:https://igkultur-berga.de/wp-content/uploads/2021/04/logo-mit-schatten150-e1618211898520.png
END:VEVENT
BEGIN:VEVENT
DTSTART;TZID=Europe/Berlin:20210703T130000
DTEND;TZID=Europe/Berlin:20210703T143000
DTSTAMP:20260426T040434
CREATED:20200216T154855Z
LAST-MODIFIED:20210412T071947Z
UID:374-1625317200-1625322600@igkultur-berga.de
SUMMARY:Jugendweihe Klasse 8b
DESCRIPTION:teilen teilen 
URL:https://igkultur-berga.de/veranstaltung/jugendweihe-klasse-7b/
LOCATION:Klubhaus Berga\, Brauhausstrraße 15\, Berga-Wünschendorf\, 07980
ATTACH;FMTTYPE=image/png:https://igkultur-berga.de/wp-content/uploads/2021/04/logo-mit-schatten150-e1618211898520.png
END:VEVENT
END:VCALENDAR