BEGIN:VCALENDAR
VERSION:2.0
PRODID:-//Interessengemeinschaft Kultur für Berga/Elster - ECPv6.11.2//NONSGML v1.0//EN
CALSCALE:GREGORIAN
METHOD:PUBLISH
X-WR-CALNAME:Interessengemeinschaft Kultur für Berga/Elster
X-ORIGINAL-URL:https://igkultur-berga.de
X-WR-CALDESC:Veranstaltungen für Interessengemeinschaft Kultur für Berga/Elster
REFRESH-INTERVAL;VALUE=DURATION:PT1H
X-Robots-Tag:noindex
X-PUBLISHED-TTL:PT1H
BEGIN:VTIMEZONE
TZID:Europe/Berlin
BEGIN:DAYLIGHT
TZOFFSETFROM:+0100
TZOFFSETTO:+0200
TZNAME:CEST
DTSTART:20210328T010000
END:DAYLIGHT
BEGIN:STANDARD
TZOFFSETFROM:+0200
TZOFFSETTO:+0100
TZNAME:CET
DTSTART:20211031T010000
END:STANDARD
END:VTIMEZONE
BEGIN:VEVENT
DTSTART;TZID=Europe/Berlin:20211006T190000
DTEND;TZID=Europe/Berlin:20211006T203000
DTSTAMP:20260425T230519
CREATED:20210901T163726Z
LAST-MODIFIED:20210901T163726Z
UID:1216-1633546800-1633552200@igkultur-berga.de
SUMMARY:Treffen der IG Kultur für Berga/Elster
DESCRIPTION:teilen teilen 
URL:https://igkultur-berga.de/veranstaltung/treffen-der-ig-kultur-fuer-berga-elster-4/
LOCATION:Klubhaus Berga\, Brauhausstrraße 15\, Berga-Wünschendorf\, 07980
ATTACH;FMTTYPE=image/png:https://igkultur-berga.de/wp-content/uploads/2019/11/apple-touch-icon-180x180.png
END:VEVENT
BEGIN:VEVENT
DTSTART;TZID=Europe/Berlin:20211024T170000
DTEND;TZID=Europe/Berlin:20211024T170000
DTSTAMP:20260425T230519
CREATED:20211023T175659Z
LAST-MODIFIED:20211122T160715Z
UID:1226-1635094800-1635094800@igkultur-berga.de
SUMMARY:Lesung zum Tag der Bibliotheken
DESCRIPTION:Vorgelesen wird aus dem Buch des bekannten \nZwickauer Kabarettisten \nBernd-Lutz Lange \nDeutsch-Sächsisch: \nMachense geene Fissemaddenzchn!  \nEs lesen Bernd Frohmeyer \nund \nFrau Putzi\, alias Anette Kaiser \nvon der Interessengemeinschaft Kultur für Berga/Elster \nteilen teilen 
URL:https://igkultur-berga.de/veranstaltung/lesung-zum-tag-der-bibliotheken/
LOCATION:Klubhaus Berga\, Brauhausstrraße 15\, Berga-Wünschendorf\, 07980
ORGANIZER;CN="AWO-Stadtbibliothek":MAILTO:bibo-berga@awo-greiz.de
END:VEVENT
END:VCALENDAR