BEGIN:VCALENDAR
VERSION:2.0
PRODID:-//Interessengemeinschaft Kultur für Berga/Elster - ECPv6.11.2//NONSGML v1.0//EN
CALSCALE:GREGORIAN
METHOD:PUBLISH
X-WR-CALNAME:Interessengemeinschaft Kultur für Berga/Elster
X-ORIGINAL-URL:https://igkultur-berga.de
X-WR-CALDESC:Veranstaltungen für Interessengemeinschaft Kultur für Berga/Elster
REFRESH-INTERVAL;VALUE=DURATION:PT1H
X-Robots-Tag:noindex
X-PUBLISHED-TTL:PT1H
BEGIN:VTIMEZONE
TZID:Europe/Berlin
BEGIN:DAYLIGHT
TZOFFSETFROM:+0100
TZOFFSETTO:+0200
TZNAME:CEST
DTSTART:20240331T010000
END:DAYLIGHT
BEGIN:STANDARD
TZOFFSETFROM:+0200
TZOFFSETTO:+0100
TZNAME:CET
DTSTART:20241027T010000
END:STANDARD
END:VTIMEZONE
BEGIN:VEVENT
DTSTART;TZID=Europe/Berlin:20240510T183000
DTEND;TZID=Europe/Berlin:20240510T204500
DTSTAMP:20260421T201825
CREATED:20240208T175229Z
LAST-MODIFIED:20240208T175229Z
UID:1626-1715365800-1715373900@igkultur-berga.de
SUMMARY:Sketchparaden mit "De´Scherzkekse"
DESCRIPTION:teilen teilen 
URL:https://igkultur-berga.de/veranstaltung/sketchparaden-mit-descherzkekse-4/
LOCATION:Gasthaus Fischerhof\, Am Torteich 29\, Mannichswalde
ATTACH;FMTTYPE=image/jpeg:https://igkultur-berga.de/wp-content/uploads/2024/02/Bild-e1707415566572.jpg
END:VEVENT
BEGIN:VEVENT
DTSTART;TZID=Europe/Berlin:20240512T120000
DTEND;TZID=Europe/Berlin:20240512T141500
DTSTAMP:20260421T201825
CREATED:20240208T175753Z
LAST-MODIFIED:20240208T193013Z
UID:1636-1715515200-1715523300@igkultur-berga.de
SUMMARY:Sketchparaden mit "De´Scherzkekse"
DESCRIPTION:teilen teilen 
URL:https://igkultur-berga.de/veranstaltung/sketchparaden-mit-descherzkekse-5/
LOCATION:Haus des Gastes\, Schloßblickstr. 6a\, Blankenhain
ATTACH;FMTTYPE=image/jpeg:https://igkultur-berga.de/wp-content/uploads/2024/02/Bild-e1707415566572.jpg
END:VEVENT
BEGIN:VEVENT
DTSTART;TZID=Europe/Berlin:20240512T170000
DTEND;TZID=Europe/Berlin:20240512T190000
DTSTAMP:20260421T201825
CREATED:20240208T181708Z
LAST-MODIFIED:20250118T190546Z
UID:1642-1715533200-1715540400@igkultur-berga.de
SUMMARY:FKK - Freie Kabarett Kultur Leipzig
DESCRIPTION:Nur wer akzeptiert\, dass er ein Problem hat\, kann therapiert werden. \nDoof nur\, dass unser Gesundheitsapparat selber ein Intensivpatient ist. Im ländlichen Raum ist es wahrscheinlicher Internetzugang zu haben\, als ein Hausarzt im 100 Km – Radius. Zu wenig und überarbeitetes Medizinpersonal\, welches auch noch in einem nach gewinnorientierten System verheizt wird. „Nur so viel wegschneiden\, dass der Patient noch zahlungsfähig bleibt.“. \nWir bräuchten jetzt einen Gesundheitsminister\, der mal auf den Tisch haut\, doch wir haben einen\, der die FDP fragt: „Kann ich unterm Tisch mal das Licht anmachen?“. Ein großer Therapeutenmangel sorgt dafür\, das Menschen\, die Hilfe brauchen\, alleine bleiben. Klar\, dass sich viele mittlerweile die Kugel geben in Form von Globuli. \nBeginn ist 17:00 Uhr\nEinlass ab 16:00 Uhr \nDie Karte kostet 17\,50 €\, Fettbrote und Getränke in der Pause sind nicht im Preis enthalten. \nDie Orte und Termine für den Kartenvorverkauf werden noch bekannt gegeben. \nteilen teilen 
URL:https://igkultur-berga.de/veranstaltung/fkk-freie-kabarett-kultur-leipzig/
LOCATION:Klubhaus Berga\, Brauhausstrraße 15\, Berga-Wünschendorf\, 07980
ATTACH;FMTTYPE=image/jpeg:https://igkultur-berga.de/wp-content/uploads/2024/02/CK-Banner-Mobile-Therapie800x450px.jpg
END:VEVENT
END:VCALENDAR